BEGIN:VCALENDAR
VERSION:2.0
PRODID:-//ROAR - ECPv6.13.2.1//NONSGML v1.0//EN
CALSCALE:GREGORIAN
METHOD:PUBLISH
X-ORIGINAL-URL:https://roartx.com
X-WR-CALDESC:Events for ROAR
REFRESH-INTERVAL;VALUE=DURATION:PT1H
X-Robots-Tag:noindex
X-PUBLISHED-TTL:PT1H
BEGIN:VTIMEZONE
TZID:UTC
BEGIN:STANDARD
TZOFFSETFROM:+0000
TZOFFSETTO:+0000
TZNAME:UTC
DTSTART:20260101T000000
END:STANDARD
END:VTIMEZONE
BEGIN:VEVENT
DTSTART;TZID=UTC:20260826T183000
DTEND;TZID=UTC:20260930T203000
DTSTAMP:20260425T123432
CREATED:20260413T164345Z
LAST-MODIFIED:20260413T164753Z
UID:393-1787769000-1790800200@roartx.com
SUMMARY:Unraveled Roots | August - September
DESCRIPTION:This group will help expose the lies you believe about yourself\, as well as other damaging behaviors and mindsets that you may not even realize are painful and limiting. We offer this study in a virtual or in-person weekly format for seven weeks. Registration required. \nRegister here.
URL:https://roartx.com/event/unraveled-roots-august-september/
CATEGORIES:Unraveled Roots
END:VEVENT
END:VCALENDAR